BEGIN:VCALENDAR
VERSION:2.0
PRODID:-//Plone.org//NONSGML plone.app.event//EN
X-WR-TIMEZONE:US/Eastern
BEGIN:VEVENT
SUMMARY:Santa Visits the Library
DTSTART;TZID=US/Eastern:20131207T100000
DTEND;TZID=US/Eastern:20131207T120000
DTSTAMP:20260424T150651Z
UID:f3d863beac6c0f9461146d825ea1b432@saas_stack_varnish:6080
CREATED:20131205T211235Z
LAST-MODIFIED:20131205T211252Z
URL:https://www.pdl.michlibrary.org/news-events/lib-cal/santa-visits-the-l
 ibrary.ics
END:VEVENT
BEGIN:VTIMEZONE
TZID:US/Eastern
X-LIC-LOCATION:US/Eastern
BEGIN:STANDARD
DTSTART:20131103T010000
TZNAME:EST
TZOFFSETFROM:-0400
TZOFFSETTO:-0500
END:STANDARD
END:VTIMEZONE
END:VCALENDAR
