BEGIN:VCALENDAR
VERSION:2.0
PRODID:-//Plone.org//NONSGML plone.app.event//EN
X-WR-TIMEZONE:US/Eastern
BEGIN:VEVENT
SUMMARY:New Movie Tuesday- Maleficent 6pm
DTSTART;TZID=US/Eastern:20141104T180000
DTEND;TZID=US/Eastern:20141104T193000
DTSTAMP:20260420T151532Z
UID:0f88bbb698b6808934b883023fea3aaf@saas_stack_varnish:6080
CREATED:20140927T161608Z
LAST-MODIFIED:20140927T161629Z
URL:https://www.pdl.michlibrary.org/news-events/lib-cal/new-movie-tuesday-
 maleficent-6pm.ics
END:VEVENT
BEGIN:VTIMEZONE
TZID:US/Eastern
X-LIC-LOCATION:US/Eastern
BEGIN:STANDARD
DTSTART:20141102T010000
TZNAME:EST
TZOFFSETFROM:-0400
TZOFFSETTO:-0500
END:STANDARD
END:VTIMEZONE
END:VCALENDAR
