BEGIN:VCALENDAR
VERSION:2.0
PRODID:-//Plone.org//NONSGML plone.app.event//EN
X-WR-TIMEZONE:US/Eastern
BEGIN:VEVENT
SUMMARY:Mac and Cheese Cookoff
DTSTART;TZID=US/Eastern:20130207T173000
DTEND;TZID=US/Eastern:20130207T193000
DTSTAMP:20260423T193545Z
UID:45dbf542d79c90afff866004a54a51b3@saas_stack_varnish:6080
CREATED:20130128T195130Z
DESCRIPTION:Sign up at the front desk to enter your famous mac and cheese.
LAST-MODIFIED:20130128T195213Z
URL:https://www.pdl.michlibrary.org/news-events/lib-cal/mac-and-cheese-coo
 koff.ics
END:VEVENT
BEGIN:VTIMEZONE
TZID:US/Eastern
X-LIC-LOCATION:US/Eastern
BEGIN:STANDARD
DTSTART:20121104T010000
TZNAME:EST
TZOFFSETFROM:-0400
TZOFFSETTO:-0500
END:STANDARD
END:VTIMEZONE
END:VCALENDAR
