BEGIN:VCALENDAR
VERSION:2.0
PRODID:-//Plone.org//NONSGML plone.app.event//EN
X-WR-TIMEZONE:US/Eastern
BEGIN:VEVENT
SUMMARY:Library Closed in observance of Memorial Day
DTSTART;TZID=US/Eastern:20150525T090000
DTEND;TZID=US/Eastern:20150525T200000
DTSTAMP:20260422T025253Z
UID:ca3fa45af1c887dabf740de6a4bc9ca6@saas_stack_varnish:6080
CREATED:20150217T202414Z
LAST-MODIFIED:20150217T202451Z
URL:https://www.pdl.michlibrary.org/news-events/lib-cal/library-closed-in-
 observance-of-memorial-day-3.ics
END:VEVENT
BEGIN:VTIMEZONE
TZID:US/Eastern
X-LIC-LOCATION:US/Eastern
BEGIN:DAYLIGHT
DTSTART:20150308T030000
TZNAME:EDT
TZOFFSETFROM:-0500
TZOFFSETTO:-0400
END:DAYLIGHT
END:VTIMEZONE
END:VCALENDAR
