BEGIN:VCALENDAR
VERSION:2.0
PRODID:-//Plone.org//NONSGML plone.app.event//EN
X-WR-TIMEZONE:US/Eastern
BEGIN:VEVENT
SUMMARY:Library Closed
DTSTART;TZID=US/Eastern:20131129T090000
DTEND;TZID=US/Eastern:20131129T200000
DTSTAMP:20260422T091814Z
UID:3d44f85c73a1a57686f9e05851c31043@saas_stack_varnish:6080
CREATED:20130909T183613Z
LAST-MODIFIED:20130909T184048Z
URL:https://www.pdl.michlibrary.org/news-events/lib-cal/library-closed-9.i
 cs
END:VEVENT
BEGIN:VTIMEZONE
TZID:US/Eastern
X-LIC-LOCATION:US/Eastern
BEGIN:STANDARD
DTSTART:20131103T010000
TZNAME:EST
TZOFFSETFROM:-0400
TZOFFSETTO:-0500
END:STANDARD
END:VTIMEZONE
END:VCALENDAR
