BEGIN:VCALENDAR
VERSION:2.0
PRODID:-//Plone.org//NONSGML plone.app.event//EN
X-WR-TIMEZONE:US/Eastern
BEGIN:VEVENT
SUMMARY:Mickey's Valentine Slumber Party
DTSTART;TZID=US/Eastern:20180214T180000
DTEND;TZID=US/Eastern:20180214T190000
DTSTAMP:20260422T091117Z
UID:a12b92b34efa43c08caaf1184953eb60@saas_stack_varnish:6080
CONTACT:Wendy Charles\, 517-647-6981\, wcharles@portlandmilibrary.com
CREATED:20171205T143025Z
LAST-MODIFIED:20171205T143030Z
URL:https://www.pdl.michlibrary.org/mickeys-valentine-slumber-party
END:VEVENT
BEGIN:VTIMEZONE
TZID:US/Eastern
X-LIC-LOCATION:US/Eastern
BEGIN:STANDARD
DTSTART:20171105T010000
TZNAME:EST
TZOFFSETFROM:-0400
TZOFFSETTO:-0500
END:STANDARD
END:VTIMEZONE
END:VCALENDAR
